BEGIN:VCALENDAR
VERSION:2.0
PRODID:-//spacewith - ECPv6.0.9//NONSGML v1.0//EN
CALSCALE:GREGORIAN
METHOD:PUBLISH
X-WR-CALNAME:spacewith
X-ORIGINAL-URL:https://spacewith.co.jp/wordpress
X-WR-CALDESC:spacewith のイベント
REFRESH-INTERVAL;VALUE=DURATION:PT1H
X-Robots-Tag:noindex
X-PUBLISHED-TTL:PT1H
BEGIN:VTIMEZONE
TZID:Asia/Tokyo
BEGIN:STANDARD
TZOFFSETFROM:+0900
TZOFFSETTO:+0900
TZNAME:JST
DTSTART:20230101T000000
END:STANDARD
END:VTIMEZONE
BEGIN:VEVENT
DTSTART;TZID=Asia/Tokyo:20231028T130000
DTEND;TZID=Asia/Tokyo:20231028T210000
DTSTAMP:20260426T131043
CREATED:20230904T123125Z
LAST-MODIFIED:20230904T123125Z
UID:1039-1698498000-1698526800@spacewith.co.jp
SUMMARY:名も知れない花たち
DESCRIPTION:2部制\nチャージ　3000円　+　1 Drink
URL:https://spacewith.co.jp/wordpress/event/20231028all/
CATEGORIES:演劇・ミュージカル
END:VEVENT
BEGIN:VEVENT
DTSTART;TZID=Asia/Tokyo:20230513T120000
DTEND;TZID=Asia/Tokyo:20230513T173000
DTSTAMP:20260426T131043
CREATED:20230422T091201Z
LAST-MODIFIED:20230428T073556Z
UID:468-1683979200-1683999000@spacewith.co.jp
SUMMARY:お嬢様へ贈るオジサマ・ストーリーvol２
DESCRIPTION:昼の部　13時開場　13時半〜\n夜の部　18時開場　18時半～\n朗読／神奈延年\nギター演奏・他／ドン・マッコウ\nチケット料金3500円（整理番号券）
URL:https://spacewith.co.jp/wordpress/event/20230513am/
CATEGORIES:演劇・ミュージカル
END:VEVENT
END:VCALENDAR