BEGIN:VCALENDAR
VERSION:2.0
PRODID:-//spacewith - ECPv6.0.9//NONSGML v1.0//EN
CALSCALE:GREGORIAN
METHOD:PUBLISH
X-WR-CALNAME:spacewith
X-ORIGINAL-URL:https://spacewith.co.jp/wordpress
X-WR-CALDESC:spacewith のイベント
REFRESH-INTERVAL;VALUE=DURATION:PT1H
X-Robots-Tag:noindex
X-PUBLISHED-TTL:PT1H
BEGIN:VTIMEZONE
TZID:Asia/Tokyo
BEGIN:STANDARD
TZOFFSETFROM:+0900
TZOFFSETTO:+0900
TZNAME:JST
DTSTART:20260101T000000
END:STANDARD
END:VTIMEZONE
BEGIN:VEVENT
DTSTART;TZID=Asia/Tokyo:20260411T150000
DTEND;TZID=Asia/Tokyo:20260411T220000
DTSTAMP:20260425T231017
CREATED:20260208T150325Z
LAST-MODIFIED:20260309T061708Z
UID:2205-1775919600-1775944800@spacewith.co.jp
SUMMARY:女将生誕祭　「丙午女の逆襲」
DESCRIPTION:毎年恒例　女将生誕祭　還暦ライブ＆パーティー \nopen 15:30\nstart 16:00\n¥2\,000 + Drink (再入場可)\n打ち上げ 19:50〜 2\,500円 \nact\nCheers & Chaos (Various Artist) 16:00〜\nHOPPY TRAILS (as Van Halen) 16:45〜\nSSIK (as KISS) 17:45〜\n午 (Hard Rock Cover) 18:45〜
URL:https://spacewith.co.jp/wordpress/event/20260411/
CATEGORIES:パーティ,ライブ
ATTACH;FMTTYPE=image/jpeg:https://spacewith.co.jp/wordpress/wp-content/uploads/2026/02/女将生誕.jpg
END:VEVENT
END:VCALENDAR