BEGIN:VCALENDAR
VERSION:2.0
PRODID:-//spacewith - ECPv6.0.9//NONSGML v1.0//EN
CALSCALE:GREGORIAN
METHOD:PUBLISH
X-WR-CALNAME:spacewith
X-ORIGINAL-URL:https://spacewith.co.jp/wordpress
X-WR-CALDESC:spacewith のイベント
REFRESH-INTERVAL;VALUE=DURATION:PT1H
X-Robots-Tag:noindex
X-PUBLISHED-TTL:PT1H
BEGIN:VTIMEZONE
TZID:Asia/Tokyo
BEGIN:STANDARD
TZOFFSETFROM:+0900
TZOFFSETTO:+0900
TZNAME:JST
DTSTART:20230101T000000
END:STANDARD
END:VTIMEZONE
BEGIN:VEVENT
DTSTART;TZID=Asia/Tokyo:20231209T190000
DTEND;TZID=Asia/Tokyo:20231209T220000
DTSTAMP:20260425T212200
CREATED:20230626T132017Z
LAST-MODIFIED:20230626T132017Z
UID:818-1702148400-1702159200@spacewith.co.jp
SUMMARY:マイケル忘年会
DESCRIPTION:スタート17:00
URL:https://spacewith.co.jp/wordpress/event/20231209pm/
CATEGORIES:パーティ
END:VEVENT
BEGIN:VEVENT
DTSTART;TZID=Asia/Tokyo:20231008T160000
DTEND;TZID=Asia/Tokyo:20231008T220000
DTSTAMP:20260425T212200
CREATED:20230613T095838Z
LAST-MODIFIED:20230904T123332Z
UID:756-1696780800-1696802400@spacewith.co.jp
SUMMARY:space with ３周年パーティー
DESCRIPTION:
URL:https://spacewith.co.jp/wordpress/event/20230915pm/
CATEGORIES:パーティ
END:VEVENT
BEGIN:VEVENT
DTSTART;TZID=Asia/Tokyo:20230716T103000
DTEND;TZID=Asia/Tokyo:20230716T153000
DTSTAMP:20260425T212200
CREATED:20230605T101512Z
LAST-MODIFIED:20230605T101924Z
UID:697-1689503400-1689521400@spacewith.co.jp
SUMMARY:持込パーティ
DESCRIPTION:
URL:https://spacewith.co.jp/wordpress/event/20230716am/
CATEGORIES:パーティ
END:VEVENT
BEGIN:VEVENT
DTSTART;TZID=Asia/Tokyo:20230616T190000
DTEND;TZID=Asia/Tokyo:20230616T220000
DTSTAMP:20260425T212200
CREATED:20230510T081359Z
LAST-MODIFIED:20230510T081359Z
UID:617-1686942000-1686952800@spacewith.co.jp
SUMMARY:持込パーティー
DESCRIPTION:
URL:https://spacewith.co.jp/wordpress/event/20230619pm/
CATEGORIES:パーティ
END:VEVENT
BEGIN:VEVENT
DTSTART;TZID=Asia/Tokyo:20230610T110000
DTEND;TZID=Asia/Tokyo:20230610T153000
DTSTAMP:20260425T212200
CREATED:20230510T072312Z
LAST-MODIFIED:20230510T072312Z
UID:599-1686394800-1686411000@spacewith.co.jp
SUMMARY:持込イベント
DESCRIPTION:結婚式2次会イベント
URL:https://spacewith.co.jp/wordpress/event/20230610am/
CATEGORIES:パーティ
END:VEVENT
BEGIN:VEVENT
DTSTART;TZID=Asia/Tokyo:20230531T180000
DTEND;TZID=Asia/Tokyo:20230531T220000
DTSTAMP:20260425T212200
CREATED:20230510T071915Z
LAST-MODIFIED:20230510T071948Z
UID:597-1685556000-1685570400@spacewith.co.jp
SUMMARY:持込イベント
DESCRIPTION:
URL:https://spacewith.co.jp/wordpress/event/20230531pm/
CATEGORIES:パーティ
END:VEVENT
END:VCALENDAR