BEGIN:VCALENDAR
VERSION:2.0
PRODID:-//spacewith - ECPv6.0.9//NONSGML v1.0//EN
CALSCALE:GREGORIAN
METHOD:PUBLISH
X-WR-CALNAME:spacewith
X-ORIGINAL-URL:https://spacewith.co.jp/wordpress
X-WR-CALDESC:spacewith のイベント
REFRESH-INTERVAL;VALUE=DURATION:PT1H
X-Robots-Tag:noindex
X-PUBLISHED-TTL:PT1H
BEGIN:VTIMEZONE
TZID:Asia/Tokyo
BEGIN:STANDARD
TZOFFSETFROM:+0900
TZOFFSETTO:+0900
TZNAME:JST
DTSTART:20250101T000000
END:STANDARD
END:VTIMEZONE
BEGIN:VEVENT
DTSTART;TZID=Asia/Tokyo:20251025T163000
DTEND;TZID=Asia/Tokyo:20251025T210000
DTSTAMP:20260426T012113
CREATED:20251021T034151Z
LAST-MODIFIED:20251021T034151Z
UID:2082-1761409800-1761426000@spacewith.co.jp
SUMMARY:ありがとう手数王メモリアル
DESCRIPTION:2021/11/8に逝去された手数王、菅沼孝三さんと再会するメモリアルイベントを開催します。 \n日時:10月25日17:00\n場所:飯田橋スペースウィズ\nhttp://www.spacewith.co.jp/\nチャージ:3\,500円＋ドリンク\n※売上の50%をお花代としてご家族にお渡しします。 \n16:30 ドアオープン\n17:15 ご家族からのごあいさつ\n17:30 歓談\n18:00 秘蔵映像コーナー\n18:30 セッション\n19:30 ハーフタイムショー(ドラム回し、ドラムソロ)\n20:00 孝三さんの思い出\n21:30 終了 \n・秘蔵映像ある人はご連絡ください。\n・セッションは数曲やりますのでリクエストしてください。\n・ドラム回しはドラマーは全員参加！他パートの人も大歓迎。\n・ドラムソロは門下生、電飾王 \n詳細\nhttps://suganuma-session.com/bbs/patio-i.cgi?mode=view&no=89
URL:https://spacewith.co.jp/wordpress/event/20251025pm/
CATEGORIES:その他,アーティスト
ATTACH;FMTTYPE=image/png:https://spacewith.co.jp/wordpress/wp-content/uploads/2022/10/arigatoufront.png
END:VEVENT
END:VCALENDAR